BEGIN:VCALENDAR
VERSION:2.0
PRODID:-//Altes Amtshaus Ailringen - ECPv6.8.1//NONSGML v1.0//EN
CALSCALE:GREGORIAN
METHOD:PUBLISH
X-ORIGINAL-URL:https://www.amtshaus-ailringen.de
X-WR-CALDESC:Veranstaltungen für Altes Amtshaus Ailringen
REFRESH-INTERVAL;VALUE=DURATION:PT1H
X-Robots-Tag:noindex
X-PUBLISHED-TTL:PT1H
BEGIN:VTIMEZONE
TZID:Europe/Berlin
BEGIN:DAYLIGHT
TZOFFSETFROM:+0100
TZOFFSETTO:+0200
TZNAME:CEST
DTSTART:20260329T010000
END:DAYLIGHT
BEGIN:STANDARD
TZOFFSETFROM:+0200
TZOFFSETTO:+0100
TZNAME:CET
DTSTART:20261025T010000
END:STANDARD
END:VTIMEZONE
BEGIN:VEVENT
DTSTART;VALUE=DATE:20261219
DTEND;VALUE=DATE:20261220
DTSTAMP:20260423T120336
CREATED:20260324T123628Z
LAST-MODIFIED:20260324T124724Z
UID:22704-1797638400-1797724799@www.amtshaus-ailringen.de
SUMMARY:Yogaspecial - Rauhnächte
DESCRIPTION:Samstag\, 19.12.2026\nvon 17.00 bis 19.30 Uhr\nmit Eva-Maria Hellinger \nYogaspecial im Alten Amtshaus – Rauhnächte: Innere Einkehr\, loslassen & Intensionen für das neue Jahr setzen – Still werden und geschehen lassen. \nPreis pro Person 49\,00 € incl. Getränk und Skript für Zuhause \nMitzubringen sind: Neugier und Offenheit\, etwas zu schreiben\, eine Decke und eventuell warme Socken. \n  \nDie Rauhnächte starten jedes Jahr in der Nacht vom 24.12. auf den 25.12. und enden am 06.01. um 24 Uhr. \nDIE BEDEUTUNG DER RAUHNÄCHTE \nInnere Einkehr\, loslassen & Intensionen für das neue Jahr setzen – Still werden und geschehen lassen. \nWELCHER TAG STEHT FÜR WAS & WAS SIND DIE THEMEN DER EINZELNEN RAUHNÄCHTE? \nDas bewusste Erleben der Rauhnächte hilft dabei\, unserem ureigenen Wesen auf die Spur zu kommen. \nWährend der Rauhnächte geht es darum\, dass man sich bewusstmacht\, was war\, und offen ist für das\, was sein kann. Und vor allem: Dass man Stille\, die so oft im Alltag untergeht\, einziehen und sein lässt. \nIch teile mit dir meine ganz persönlichen Erfahrungen\, gebe dir Tipps zu Räucherwerk & Ölen\, einen Einblick in meine Tools aus dem Bereichen Yoga\, Meditation\, Journaling\, Mantren und Tarot. \nDas Besondere liegt im Leisen – und das hört man erfahrungsgemäß vor allem dann\, wenn man sich darauf einlässt hinzulauschen und zu empfangen. \nDas Ende der Reise ist der Aufbruch in ein neues Jahr – in dem Erblühen wird\, was du in der verwandelnden Zeit gesät hast.
URL:https://www.amtshaus-ailringen.de/event/yogaspecial-rauhnaechte/
ATTACH;FMTTYPE=image/jpeg:https://www.amtshaus-ailringen.de/wp-content/uploads/2024/01/Website-Beitragsbild-Winteryoga.jpg
END:VEVENT
END:VCALENDAR